BEGIN:VCALENDAR
VERSION:2.0
PRODID:-//yey&#039;maps - ECPv6.15.20//NONSGML v1.0//EN
CALSCALE:GREGORIAN
METHOD:PUBLISH
X-WR-CALNAME:yey&#039;maps
X-ORIGINAL-URL:https://yeymaps-support.de
X-WR-CALDESC:Veranstaltungen für yey&#039;maps
REFRESH-INTERVAL;VALUE=DURATION:PT1H
X-Robots-Tag:noindex
X-PUBLISHED-TTL:PT1H
BEGIN:VTIMEZONE
TZID:Europe/Berlin
BEGIN:DAYLIGHT
TZOFFSETFROM:+0100
TZOFFSETTO:+0200
TZNAME:CEST
DTSTART:20200329T010000
END:DAYLIGHT
BEGIN:STANDARD
TZOFFSETFROM:+0200
TZOFFSETTO:+0100
TZNAME:CET
DTSTART:20201025T010000
END:STANDARD
BEGIN:DAYLIGHT
TZOFFSETFROM:+0100
TZOFFSETTO:+0200
TZNAME:CEST
DTSTART:20210328T010000
END:DAYLIGHT
BEGIN:STANDARD
TZOFFSETFROM:+0200
TZOFFSETTO:+0100
TZNAME:CET
DTSTART:20211031T010000
END:STANDARD
BEGIN:DAYLIGHT
TZOFFSETFROM:+0100
TZOFFSETTO:+0200
TZNAME:CEST
DTSTART:20220327T010000
END:DAYLIGHT
BEGIN:STANDARD
TZOFFSETFROM:+0200
TZOFFSETTO:+0100
TZNAME:CET
DTSTART:20221030T010000
END:STANDARD
BEGIN:DAYLIGHT
TZOFFSETFROM:+0100
TZOFFSETTO:+0200
TZNAME:CEST
DTSTART:20230326T010000
END:DAYLIGHT
BEGIN:STANDARD
TZOFFSETFROM:+0200
TZOFFSETTO:+0100
TZNAME:CET
DTSTART:20231029T010000
END:STANDARD
END:VTIMEZONE
BEGIN:VEVENT
DTSTART;TZID=Europe/Berlin:20220824T080000
DTEND;TZID=Europe/Berlin:20221231T080000
DTSTAMP:20260422T125050
CREATED:20220824T124108Z
LAST-MODIFIED:20220824T124506Z
UID:814-1661328000-1672473600@yeymaps-support.de
SUMMARY:Zur Übersicht aller Veranstaltungen und Webinare
DESCRIPTION:
URL:https://yeymaps-support.de/event/zur-uebersicht-aller-veranstaltungen-und-webinare
CATEGORIES:Konferenz,Messe,Webinar
ATTACH;FMTTYPE=image/jpeg:https://yeymaps-support.de/wp-content/uploads/2021/12/yeymaps_roadmap.jpg
END:VEVENT
BEGIN:VEVENT
DTSTART;TZID=Europe/Berlin:20220329T100000
DTEND;TZID=Europe/Berlin:20220329T103000
DTSTAMP:20260422T125050
CREATED:20211130T101148Z
LAST-MODIFIED:20211130T101148Z
UID:714-1648548000-1648549800@yeymaps-support.de
SUMMARY:Einführung in yeymaps 29.03.2022
DESCRIPTION:Tauchen Sie ein in die neue Welt von yeymaps und lernen Sie die wichtigsten Features in nur 20 Minuten. Darunter auch wie man ein Flurstück sucht und findet und wie man eine Flurstückabfrage dauerhaft speichert\, so dass sie jederzeit per Knopfdruck verfügbar ist. \nHier geht’s zur Anmeldung
URL:https://yeymaps-support.de/event/einfuehrung-in-yeymaps-29-03-2022
LOCATION:Virtuell\, Deutschland
ORGANIZER;CN="GeoCockpit UG":MAILTO:info@geocockpitug.de
END:VEVENT
BEGIN:VEVENT
DTSTART;TZID=Europe/Berlin:20220322T100000
DTEND;TZID=Europe/Berlin:20220322T103000
DTSTAMP:20260422T125050
CREATED:20211130T101053Z
LAST-MODIFIED:20211130T101053Z
UID:712-1647943200-1647945000@yeymaps-support.de
SUMMARY:Einführung in yeymaps 22.03.2022
DESCRIPTION:Tauchen Sie ein in die neue Welt von yeymaps und lernen Sie die wichtigsten Features in nur 20 Minuten. Darunter auch wie man ein Flurstück sucht und findet und wie man eine Flurstückabfrage dauerhaft speichert\, so dass sie jederzeit per Knopfdruck verfügbar ist. \nHier geht’s zur Anmeldung
URL:https://yeymaps-support.de/event/einfuehrung-in-yeymaps-22-03-2022
LOCATION:Virtuell\, Deutschland
ORGANIZER;CN="GeoCockpit UG":MAILTO:info@geocockpitug.de
END:VEVENT
BEGIN:VEVENT
DTSTART;TZID=Europe/Berlin:20220315T100000
DTEND;TZID=Europe/Berlin:20220315T103000
DTSTAMP:20260422T125050
CREATED:20211130T100953Z
LAST-MODIFIED:20211130T100953Z
UID:710-1647338400-1647340200@yeymaps-support.de
SUMMARY:Einführung in yeymaps 15.03.2022
DESCRIPTION:Tauchen Sie ein in die neue Welt von yeymaps und lernen Sie die wichtigsten Features in nur 20 Minuten. Darunter auch wie man ein Flurstück sucht und findet und wie man eine Flurstückabfrage dauerhaft speichert\, so dass sie jederzeit per Knopfdruck verfügbar ist. \nHier geht’s zur Anmeldung
URL:https://yeymaps-support.de/event/einfuehrung-in-yeymaps-15-03-2022
LOCATION:Virtuell\, Deutschland
ORGANIZER;CN="GeoCockpit UG":MAILTO:info@geocockpitug.de
END:VEVENT
BEGIN:VEVENT
DTSTART;TZID=Europe/Berlin:20220308T100000
DTEND;TZID=Europe/Berlin:20220308T103000
DTSTAMP:20260422T125050
CREATED:20211130T100846Z
LAST-MODIFIED:20211130T100846Z
UID:708-1646733600-1646735400@yeymaps-support.de
SUMMARY:Einführung in yeymaps 08.03.2022
DESCRIPTION:Tauchen Sie ein in die neue Welt von yeymaps und lernen Sie die wichtigsten Features in nur 20 Minuten. Darunter auch wie man ein Flurstück sucht und findet und wie man eine Flurstückabfrage dauerhaft speichert\, so dass sie jederzeit per Knopfdruck verfügbar ist. \nHier geht’s zur Anmeldung
URL:https://yeymaps-support.de/event/einfuehrung-in-yeymaps-08-03-2022
LOCATION:Virtuell\, Deutschland
ORGANIZER;CN="GeoCockpit UG":MAILTO:info@geocockpitug.de
END:VEVENT
BEGIN:VEVENT
DTSTART;TZID=Europe/Berlin:20220222T100000
DTEND;TZID=Europe/Berlin:20220222T103000
DTSTAMP:20260422T125050
CREATED:20211130T100719Z
LAST-MODIFIED:20211130T100719Z
UID:706-1645524000-1645525800@yeymaps-support.de
SUMMARY:Einführung in yeymaps 22.02.2022
DESCRIPTION:Tauchen Sie ein in die neue Welt von yeymaps und lernen Sie die wichtigsten Features in nur 20 Minuten. Darunter auch wie man ein Flurstück sucht und findet und wie man eine Flurstückabfrage dauerhaft speichert\, so dass sie jederzeit per Knopfdruck verfügbar ist. \nHier geht’s zur Anmeldung
URL:https://yeymaps-support.de/event/einfuehrung-in-yeymaps-22-02-2022
LOCATION:Virtuell\, Deutschland
ORGANIZER;CN="GeoCockpit UG":MAILTO:info@geocockpitug.de
END:VEVENT
BEGIN:VEVENT
DTSTART;TZID=Europe/Berlin:20220215T100000
DTEND;TZID=Europe/Berlin:20220215T103000
DTSTAMP:20260422T125050
CREATED:20211130T100621Z
LAST-MODIFIED:20211130T101335Z
UID:704-1644919200-1644921000@yeymaps-support.de
SUMMARY:Einführung in yeymaps 15.02.2022
DESCRIPTION:Tauchen Sie ein in die neue Welt von yeymaps und lernen Sie die wichtigsten Features in nur 20 Minuten. Darunter auch wie man ein Flurstück sucht und findet und wie man eine Flurstückabfrage dauerhaft speichert\, so dass sie jederzeit per Knopfdruck verfügbar ist. \nHier geht’s zur Anmeldung
URL:https://yeymaps-support.de/event/einfuehrung-in-yeymaps-15-02-2022
LOCATION:Virtuell\, Deutschland
ORGANIZER;CN="GeoCockpit UG":MAILTO:info@geocockpitug.de
END:VEVENT
BEGIN:VEVENT
DTSTART;TZID=Europe/Berlin:20220208T100000
DTEND;TZID=Europe/Berlin:20220208T103000
DTSTAMP:20260422T125050
CREATED:20211130T100528Z
LAST-MODIFIED:20211130T101238Z
UID:702-1644314400-1644316200@yeymaps-support.de
SUMMARY:Einführung in yeymaps 08.02.2022
DESCRIPTION:Tauchen Sie ein in die neue Welt von yeymaps und lernen Sie die wichtigsten Features in nur 20 Minuten. Darunter auch wie man ein Flurstück sucht und findet und wie man eine Flurstückabfrage dauerhaft speichert\, so dass sie jederzeit per Knopfdruck verfügbar ist. \nHier geht’s zur Anmeldung
URL:https://yeymaps-support.de/event/einfuehrung-in-yeymaps-08-02-2022
LOCATION:Virtuell\, Deutschland
ORGANIZER;CN="GeoCockpit UG":MAILTO:info@geocockpitug.de
END:VEVENT
BEGIN:VEVENT
DTSTART;TZID=Europe/Berlin:20220201T100000
DTEND;TZID=Europe/Berlin:20220201T103000
DTSTAMP:20260422T125050
CREATED:20211130T100425Z
LAST-MODIFIED:20211130T101419Z
UID:700-1643709600-1643711400@yeymaps-support.de
SUMMARY:Einführung in yeymaps 01.02.2022
DESCRIPTION:Tauchen Sie ein in die neue Welt von yeymaps und lernen Sie die wichtigsten Features in nur 20 Minuten. Darunter auch wie man ein Flurstück sucht und findet und wie man eine Flurstückabfrage dauerhaft speichert\, so dass sie jederzeit per Knopfdruck verfügbar ist. \nHier geht’s zur Anmeldung
URL:https://yeymaps-support.de/event/einfuehrung-in-yeymaps-01-02-2022
LOCATION:Virtuell\, Deutschland
ORGANIZER;CN="GeoCockpit UG":MAILTO:info@geocockpitug.de
END:VEVENT
BEGIN:VEVENT
DTSTART;TZID=Europe/Berlin:20220125T100000
DTEND;TZID=Europe/Berlin:20220125T103000
DTSTAMP:20260422T125050
CREATED:20211130T100318Z
LAST-MODIFIED:20211130T101516Z
UID:698-1643104800-1643106600@yeymaps-support.de
SUMMARY:Einführung in yeymaps 25.01.2022
DESCRIPTION:  \nTauchen Sie ein in die neue Welt von yeymaps und lernen Sie die wichtigsten Features in nur 20 Minuten. Darunter auch wie man ein Flurstück sucht und findet und wie man eine Flurstückabfrage dauerhaft speichert\, so dass sie jederzeit per Knopfdruck verfügbar ist. \nHier geht’s zur Anmeldung
URL:https://yeymaps-support.de/event/einfuehrung-in-yeymaps-25-01-2022
LOCATION:Virtuell\, Deutschland
ORGANIZER;CN="GeoCockpit UG":MAILTO:info@geocockpitug.de
END:VEVENT
BEGIN:VEVENT
DTSTART;TZID=Europe/Berlin:20220118T100000
DTEND;TZID=Europe/Berlin:20220118T103000
DTSTAMP:20260422T125050
CREATED:20211130T100228Z
LAST-MODIFIED:20211130T101539Z
UID:696-1642500000-1642501800@yeymaps-support.de
SUMMARY:Einführung in yeymaps 18.01.2022
DESCRIPTION:Tauchen Sie ein in die neue Welt von yeymaps und lernen Sie die wichtigsten Features in nur 20 Minuten. Darunter auch wie man ein Flurstück sucht und findet und wie man eine Flurstückabfrage dauerhaft speichert\, so dass sie jederzeit per Knopfdruck verfügbar ist. \nHier geht’s zur Anmeldung
URL:https://yeymaps-support.de/event/einfuehrung-in-yeymaps-18-01-2022
LOCATION:Virtuell\, Deutschland
ORGANIZER;CN="GeoCockpit UG":MAILTO:info@geocockpitug.de
END:VEVENT
BEGIN:VEVENT
DTSTART;TZID=Europe/Berlin:20220111T100000
DTEND;TZID=Europe/Berlin:20220111T103000
DTSTAMP:20260422T125050
CREATED:20211130T100125Z
LAST-MODIFIED:20211130T101605Z
UID:694-1641895200-1641897000@yeymaps-support.de
SUMMARY:Einführung in yeymaps 11.01.2022
DESCRIPTION:Tauchen Sie ein in die neue Welt von yeymaps und lernen Sie die wichtigsten Features in nur 20 Minuten. Darunter auch wie man ein Flurstück sucht und findet und wie man eine Flurstückabfrage dauerhaft speichert\, so dass sie jederzeit per Knopfdruck verfügbar ist. \nHier geht’s zur Anmeldung
URL:https://yeymaps-support.de/event/einfuehrung-in-yeymaps-11-01-2022
LOCATION:Virtuell\, Deutschland
ORGANIZER;CN="GeoCockpit UG":MAILTO:info@geocockpitug.de
END:VEVENT
BEGIN:VEVENT
DTSTART;TZID=Europe/Berlin:20211221T100000
DTEND;TZID=Europe/Berlin:20211221T103000
DTSTAMP:20260422T125050
CREATED:20211130T095859Z
LAST-MODIFIED:20211130T095859Z
UID:692-1640080800-1640082600@yeymaps-support.de
SUMMARY:Einführung in yeymaps 21.12.2021
DESCRIPTION:Tauchen Sie ein in die neue Welt von yeymaps und lernen Sie die wichtigsten Features in nur 20 Minuten. Darunter auch wie man ein Flurstück sucht und findet und wie man eine Flurstückabfrage dauerhaft speichert\, so dass sie jederzeit per Knopfdruck verfügbar ist. \nHier geht’s zur Anmeldung
URL:https://yeymaps-support.de/event/einfuehrung-in-yeymaps-21-12-2021
LOCATION:Virtuell\, Deutschland
ORGANIZER;CN="GeoCockpit UG":MAILTO:info@geocockpitug.de
END:VEVENT
BEGIN:VEVENT
DTSTART;TZID=Europe/Berlin:20211214T100000
DTEND;TZID=Europe/Berlin:20211214T103000
DTSTAMP:20260422T125050
CREATED:20211130T095735Z
LAST-MODIFIED:20211130T095735Z
UID:689-1639476000-1639477800@yeymaps-support.de
SUMMARY:Einführung in yeymaps 14.12.2021
DESCRIPTION:Tauchen Sie ein in die neue Welt von yeymaps und lernen Sie die wichtigsten Features in nur 20 Minuten. Darunter auch wie man ein Flurstück sucht und findet und wie man eine Flurstückabfrage dauerhaft speichert\, so dass sie jederzeit per Knopfdruck verfügbar ist. \nHier geht’s zur Anmeldung
URL:https://yeymaps-support.de/event/einfuehrung-in-yeymaps-14-12-2021
LOCATION:Virtuell\, Deutschland
ORGANIZER;CN="GeoCockpit UG":MAILTO:info@geocockpitug.de
END:VEVENT
BEGIN:VEVENT
DTSTART;TZID=Europe/Berlin:20211130T100000
DTEND;TZID=Europe/Berlin:20211130T103000
DTSTAMP:20260422T125050
CREATED:20211028T085005Z
LAST-MODIFIED:20211028T085005Z
UID:682-1638266400-1638268200@yeymaps-support.de
SUMMARY:Einführung in yeymaps 30.11.2021
DESCRIPTION:Tauchen Sie ein in die neue Welt von yeymaps und lernen Sie die wichtigsten Features in nur 20 Minuten. Darunter auch wie man ein Flurstück sucht und findet und wie man eine Flurstückabfrage dauerhaft speichert\, so dass sie jederzeit per Knopfdruck verfügbar ist. \nHier geht’s zur Anmeldung
URL:https://yeymaps-support.de/event/einfuehrung-in-yeymaps-30-11-2021
LOCATION:Virtuell\, Deutschland
ORGANIZER;CN="GeoCockpit UG":MAILTO:info@geocockpitug.de
END:VEVENT
BEGIN:VEVENT
DTSTART;TZID=Europe/Berlin:20211130T000000
DTEND;TZID=Europe/Berlin:20211130T000000
DTSTAMP:20260422T125050
CREATED:20211130T095802Z
LAST-MODIFIED:20211130T095802Z
UID:686-1638230400-1638230400@yeymaps-support.de
SUMMARY:Einführung in yeymaps 07.12.2021
DESCRIPTION:Tauchen Sie ein in die neue Welt von yeymaps und lernen Sie die wichtigsten Features in nur 20 Minuten. Darunter auch wie man ein Flurstück sucht und findet und wie man eine Flurstückabfrage dauerhaft speichert\, so dass sie jederzeit per Knopfdruck verfügbar ist. \nHier geht’s zur Anmeldung
URL:https://yeymaps-support.de/event/einfuehrung-in-yeymaps-07-12-2021
END:VEVENT
BEGIN:VEVENT
DTSTART;TZID=Europe/Berlin:20211123T100000
DTEND;TZID=Europe/Berlin:20211123T103000
DTSTAMP:20260422T125050
CREATED:20211028T084914Z
LAST-MODIFIED:20211028T084914Z
UID:680-1637661600-1637663400@yeymaps-support.de
SUMMARY:Einführung in yeymaps 23.11.2021
DESCRIPTION:Tauchen Sie ein in die neue Welt von yeymaps und lernen Sie die wichtigsten Features in nur 20 Minuten. Darunter auch wie man ein Flurstück sucht und findet und wie man eine Flurstückabfrage dauerhaft speichert\, so dass sie jederzeit per Knopfdruck verfügbar ist. \nHier geht’s zur Anmeldung
URL:https://yeymaps-support.de/event/einfuehrung-in-yeymaps-23-11-2021
LOCATION:Virtuell\, Deutschland
ORGANIZER;CN="GeoCockpit UG":MAILTO:info@geocockpitug.de
END:VEVENT
BEGIN:VEVENT
DTSTART;TZID=Europe/Berlin:20211116T100000
DTEND;TZID=Europe/Berlin:20211116T103000
DTSTAMP:20260422T125050
CREATED:20211028T084815Z
LAST-MODIFIED:20211028T084815Z
UID:678-1637056800-1637058600@yeymaps-support.de
SUMMARY:Einführung in yeymaps 16.11.2021
DESCRIPTION:Tauchen Sie ein in die neue Welt von yeymaps und lernen Sie die wichtigsten Features in nur 20 Minuten. Darunter auch wie man ein Flurstück sucht und findet und wie man eine Flurstückabfrage dauerhaft speichert\, so dass sie jederzeit per Knopfdruck verfügbar ist. \nHier geht’s zur Anmeldung
URL:https://yeymaps-support.de/event/einfuehrung-in-yeymaps-16-11-2021
LOCATION:Virtuell\, Deutschland
ORGANIZER;CN="GeoCockpit UG":MAILTO:info@geocockpitug.de
END:VEVENT
BEGIN:VEVENT
DTSTART;TZID=Europe/Berlin:20211109T100000
DTEND;TZID=Europe/Berlin:20211109T103000
DTSTAMP:20260422T125050
CREATED:20211028T084630Z
LAST-MODIFIED:20211028T084630Z
UID:675-1636452000-1636453800@yeymaps-support.de
SUMMARY:Einführung in yeymaps 09.11.2021
DESCRIPTION:Tauchen Sie ein in die neue Welt von yeymaps und lernen Sie die wichtigsten Features in nur 20 Minuten. Darunter auch wie man ein Flurstück sucht und findet und wie man eine Flurstückabfrage dauerhaft speichert\, so dass sie jederzeit per Knopfdruck verfügbar ist. \nHier geht’s zur Anmeldung
URL:https://yeymaps-support.de/event/einfuehrung-in-yeymaps-09-11-2021
LOCATION:Virtuell\, Deutschland
ORGANIZER;CN="GeoCockpit UG":MAILTO:info@geocockpitug.de
END:VEVENT
BEGIN:VEVENT
DTSTART;TZID=Europe/Berlin:20211102T100000
DTEND;TZID=Europe/Berlin:20211102T103000
DTSTAMP:20260422T125050
CREATED:20211028T084249Z
LAST-MODIFIED:20211028T084708Z
UID:672-1635847200-1635849000@yeymaps-support.de
SUMMARY:Einführung in yeymaps 02.11.2021
DESCRIPTION:Tauchen Sie ein in die neue Welt von yeymaps und lernen Sie die wichtigsten Features in nur 20 Minuten. Darunter auch wie man ein Flurstück sucht und findet und wie man eine Flurstückabfrage dauerhaft speichert\, so dass sie jederzeit per Knopfdruck verfügbar ist. \nHier geht’s zur Anmeldung
URL:https://yeymaps-support.de/event/einfuehrung-in-yeymaps-02-11-2021
LOCATION:Virtuell\, Deutschland
ORGANIZER;CN="GeoCockpit UG":MAILTO:info@geocockpitug.de
END:VEVENT
BEGIN:VEVENT
DTSTART;TZID=Europe/Berlin:20210930T140000
DTEND;TZID=Europe/Berlin:20210930T143000
DTSTAMP:20260422T125050
CREATED:20210824T102700Z
LAST-MODIFIED:20210824T102700Z
UID:641-1633010400-1633012200@yeymaps-support.de
SUMMARY:Einführung in yeymaps
DESCRIPTION:Tauchen Sie ein in die neue Welt von yeymaps und lernen Sie die wichtigsten Features in nur 20 Minuten. Darunter auch wie man ein Flurstück sucht und findet und wie man eine Flurstückabfrage dauerhaft speichert\, so dass sie jederzeit per Knopfdruck verfügbar ist. \nHier geht’s zur Anmeldung
URL:https://yeymaps-support.de/event/einfuehrung-in-yeymaps-17
LOCATION:Virtuell\, Deutschland
ORGANIZER;CN="GeoCockpit UG":MAILTO:info@geocockpitug.de
END:VEVENT
BEGIN:VEVENT
DTSTART;TZID=Europe/Berlin:20210928T100000
DTEND;TZID=Europe/Berlin:20210928T103000
DTSTAMP:20260422T125050
CREATED:20210824T102611Z
LAST-MODIFIED:20210824T102611Z
UID:639-1632823200-1632825000@yeymaps-support.de
SUMMARY:Einführung in yeymaps
DESCRIPTION:Tauchen Sie ein in die neue Welt von yeymaps und lernen Sie die wichtigsten Features in nur 20 Minuten. Darunter auch wie man ein Flurstück sucht und findet und wie man eine Flurstückabfrage dauerhaft speichert\, so dass sie jederzeit per Knopfdruck verfügbar ist. \nHier geht’s zur Anmeldung
URL:https://yeymaps-support.de/event/einfuehrung-in-yeymaps-16
LOCATION:Virtuell\, Deutschland
ORGANIZER;CN="GeoCockpit UG":MAILTO:info@geocockpitug.de
END:VEVENT
BEGIN:VEVENT
DTSTART;TZID=Europe/Berlin:20210923T100000
DTEND;TZID=Europe/Berlin:20210923T103000
DTSTAMP:20260422T125050
CREATED:20210824T102520Z
LAST-MODIFIED:20210824T102520Z
UID:637-1632391200-1632393000@yeymaps-support.de
SUMMARY:Einführung in yeymaps
DESCRIPTION:Tauchen Sie ein in die neue Welt von yeymaps und lernen Sie die wichtigsten Features in nur 20 Minuten. Darunter auch wie man ein Flurstück sucht und findet und wie man eine Flurstückabfrage dauerhaft speichert\, so dass sie jederzeit per Knopfdruck verfügbar ist. \nHier geht’s zur Anmeldung
URL:https://yeymaps-support.de/event/einfuehrung-in-yeymaps-15
LOCATION:Virtuell\, Deutschland
ORGANIZER;CN="GeoCockpit UG":MAILTO:info@geocockpitug.de
END:VEVENT
BEGIN:VEVENT
DTSTART;TZID=Europe/Berlin:20210921T100000
DTEND;TZID=Europe/Berlin:20210921T103000
DTSTAMP:20260422T125050
CREATED:20210824T102433Z
LAST-MODIFIED:20210824T102433Z
UID:635-1632218400-1632220200@yeymaps-support.de
SUMMARY:Einführung in yeymaps
DESCRIPTION:Tauchen Sie ein in die neue Welt von yeymaps und lernen Sie die wichtigsten Features in nur 20 Minuten. Darunter auch wie man ein Flurstück sucht und findet und wie man eine Flurstückabfrage dauerhaft speichert\, so dass sie jederzeit per Knopfdruck verfügbar ist. \nHier geht’s zur Anmeldung
URL:https://yeymaps-support.de/event/einfuehrung-in-yeymaps-14
LOCATION:Virtuell\, Deutschland
ORGANIZER;CN="GeoCockpit UG":MAILTO:info@geocockpitug.de
END:VEVENT
BEGIN:VEVENT
DTSTART;TZID=Europe/Berlin:20210916T140000
DTEND;TZID=Europe/Berlin:20210916T143000
DTSTAMP:20260422T125050
CREATED:20210824T102338Z
LAST-MODIFIED:20210824T102338Z
UID:633-1631800800-1631802600@yeymaps-support.de
SUMMARY:Einführung in yeymaps
DESCRIPTION:Tauchen Sie ein in die neue Welt von yeymaps und lernen Sie die wichtigsten Features in nur 20 Minuten. Darunter auch wie man ein Flurstück sucht und findet und wie man eine Flurstückabfrage dauerhaft speichert\, so dass sie jederzeit per Knopfdruck verfügbar ist. \nHier geht’s zur Anmeldung
URL:https://yeymaps-support.de/event/einfuehrung-in-yeymaps-13
LOCATION:Virtuell\, Deutschland
ORGANIZER;CN="GeoCockpit UG":MAILTO:info@geocockpitug.de
END:VEVENT
BEGIN:VEVENT
DTSTART;TZID=Europe/Berlin:20210914T100000
DTEND;TZID=Europe/Berlin:20210914T103000
DTSTAMP:20260422T125050
CREATED:20210824T102216Z
LAST-MODIFIED:20210824T102216Z
UID:631-1631613600-1631615400@yeymaps-support.de
SUMMARY:Einführung in yeymaps
DESCRIPTION:Tauchen Sie ein in die neue Welt von yeymaps und lernen Sie die wichtigsten Features in nur 20 Minuten. Darunter auch wie man ein Flurstück sucht und findet und wie man eine Flurstückabfrage dauerhaft speichert\, so dass sie jederzeit per Knopfdruck verfügbar ist. \nHier geht’s zur Anmeldung
URL:https://yeymaps-support.de/event/einfuehrung-in-yeymaps-12
LOCATION:Virtuell\, Deutschland
ORGANIZER;CN="GeoCockpit UG":MAILTO:info@geocockpitug.de
END:VEVENT
BEGIN:VEVENT
DTSTART;TZID=Europe/Berlin:20210909T140000
DTEND;TZID=Europe/Berlin:20210909T143000
DTSTAMP:20260422T125050
CREATED:20210824T102122Z
LAST-MODIFIED:20210824T102122Z
UID:629-1631196000-1631197800@yeymaps-support.de
SUMMARY:Einführung in yeymaps
DESCRIPTION:Tauchen Sie ein in die neue Welt von yeymaps und lernen Sie die wichtigsten Features in nur 20 Minuten. Darunter auch wie man ein Flurstück sucht und findet und wie man eine Flurstückabfrage dauerhaft speichert\, so dass sie jederzeit per Knopfdruck verfügbar ist. \nHier geht’s zur Anmeldung
URL:https://yeymaps-support.de/event/einfuehrung-in-yeymaps-11
LOCATION:Virtuell\, Deutschland
ORGANIZER;CN="GeoCockpit UG":MAILTO:info@geocockpitug.de
END:VEVENT
BEGIN:VEVENT
DTSTART;TZID=Europe/Berlin:20210907T100000
DTEND;TZID=Europe/Berlin:20210907T103000
DTSTAMP:20260422T125050
CREATED:20210824T102007Z
LAST-MODIFIED:20210824T102007Z
UID:626-1631008800-1631010600@yeymaps-support.de
SUMMARY:Einführung in yeymaps
DESCRIPTION:Tauchen Sie ein in die neue Welt von yeymaps und lernen Sie die wichtigsten Features in nur 20 Minuten. Darunter auch wie man ein Flurstück sucht und findet und wie man eine Flurstückabfrage dauerhaft speichert\, so dass sie jederzeit per Knopfdruck verfügbar ist. \nHier geht’s zur Anmeldung \n 
URL:https://yeymaps-support.de/event/einfuehrung-in-yeymaps-10
LOCATION:Virtuell\, Deutschland
ORGANIZER;CN="GeoCockpit UG":MAILTO:info@geocockpitug.de
END:VEVENT
BEGIN:VEVENT
DTSTART;TZID=Europe/Berlin:20210902T140000
DTEND;TZID=Europe/Berlin:20210902T143000
DTSTAMP:20260422T125050
CREATED:20210824T101536Z
LAST-MODIFIED:20210824T101536Z
UID:623-1630591200-1630593000@yeymaps-support.de
SUMMARY:Einführung in yeymaps
DESCRIPTION:Tauchen Sie ein in die neue Welt von yeymaps und lernen Sie die wichtigsten Features in nur 20 Minuten. Darunter auch wie man ein Flurstück sucht und findet und wie man eine Flurstückabfrage dauerhaft speichert\, so dass sie jederzeit per Knopfdruck verfügbar ist. \nHier geht’s zur Anmeldung
URL:https://yeymaps-support.de/event/einfuehrung-in-yeymaps-9
LOCATION:Virtuell\, Deutschland
ORGANIZER;CN="GeoCockpit UG":MAILTO:info@geocockpitug.de
END:VEVENT
BEGIN:VEVENT
DTSTART;TZID=Europe/Berlin:20210831T100000
DTEND;TZID=Europe/Berlin:20210831T103000
DTSTAMP:20260422T125050
CREATED:20210803T061413Z
LAST-MODIFIED:20210803T061413Z
UID:611-1630404000-1630405800@yeymaps-support.de
SUMMARY:Einführung in yeymaps
DESCRIPTION:Tauchen Sie ein in die neue Welt von yeymaps und lernen Sie die wichtigsten Features in nur 20 Minuten. Darunter auch wie man ein Flurstück sucht und findet und wie man eine Flurstückabfrage dauerhaft speichert\, so dass sie jederzeit per Knopfdruck verfügbar ist. \nHier geht’s zur Anmeldung
URL:https://yeymaps-support.de/event/einfuehrung-in-yeymaps-8
LOCATION:Virtuell\, Deutschland
ORGANIZER;CN="GeoCockpit UG":MAILTO:info@geocockpitug.de
END:VEVENT
END:VCALENDAR